BEGIN:VCALENDAR
VERSION:2.0
PRODID:-//Werkpleintwente - ECPv6.15.20//NONSGML v1.0//EN
CALSCALE:GREGORIAN
METHOD:PUBLISH
X-ORIGINAL-URL:https://werkpleintwente.nl
X-WR-CALDESC:Evenementen voor Werkpleintwente
REFRESH-INTERVAL;VALUE=DURATION:PT1H
X-Robots-Tag:noindex
X-PUBLISHED-TTL:PT1H
BEGIN:VTIMEZONE
TZID:Europe/Amsterdam
BEGIN:DAYLIGHT
TZOFFSETFROM:+0100
TZOFFSETTO:+0200
TZNAME:CEST
DTSTART:20240331T010000
END:DAYLIGHT
BEGIN:STANDARD
TZOFFSETFROM:+0200
TZOFFSETTO:+0100
TZNAME:CET
DTSTART:20241027T010000
END:STANDARD
BEGIN:DAYLIGHT
TZOFFSETFROM:+0100
TZOFFSETTO:+0200
TZNAME:CEST
DTSTART:20250330T010000
END:DAYLIGHT
BEGIN:STANDARD
TZOFFSETFROM:+0200
TZOFFSETTO:+0100
TZNAME:CET
DTSTART:20251026T010000
END:STANDARD
BEGIN:DAYLIGHT
TZOFFSETFROM:+0100
TZOFFSETTO:+0200
TZNAME:CEST
DTSTART:20260329T010000
END:DAYLIGHT
BEGIN:STANDARD
TZOFFSETFROM:+0200
TZOFFSETTO:+0100
TZNAME:CET
DTSTART:20261025T010000
END:STANDARD
END:VTIMEZONE
BEGIN:VEVENT
DTSTART;TZID=Europe/Amsterdam:20250414T113000
DTEND;TZID=Europe/Amsterdam:20250414T170000
DTSTAMP:20260422T184823
CREATED:20250310T141431Z
LAST-MODIFIED:20250310T141431Z
UID:13634-1744630200-1744650000@werkpleintwente.nl
SUMMARY:Baanbrekend Twente
DESCRIPTION:Hét kennis- en inspiratiefestival voor werkgevers\nAls werkgever sta je voor flinke uitdagingen en die zullen voorlopig niet verdwijnen. Maar gelukkig zijn er steeds meer oplossingen. Op maandag 14 april 2025 verandert de Grolsch Veste in dé plek waar werkgevers samenkomen om het verschil te maken. Geen saaie congresdag vol clichés\, maar een frisse\, praktische en inspirerende ervaring. \n\n\n\n\n\n\nBaanbrekend Twente\nEen stevige belofte die we waarmaken met een scherp programma van 5 relevante kernthema’s. Van samenwerken en slimme digitale kansen tot blijven ontwikkelen en toekomstbestendig werkgeverschap: alles wat je hoort\, ziet en meeneemt\, helpt direct om werken geweldig(er) te maken. Niet morgen\, maar vandaag al! \nKeynote speakers\nHet aantrekken en behouden van talent is een grote uitdaging voor veel werkgevers. Hoe zorg je ervoor dat jouw medewerkers met plezier naar hun werk gaan\, gemotiveerd blijven en zich blijven ontwikkelen? Rik ten Wolde en Ynzo van Zanten delen tijdens hun sessies waardevolle inzichten en praktijkvoorbeelden over hoe werkgevers het anders kunnen aanpakken. Ben jij er ook bij? \nBreak-out sessies\nTijdens onze break-out sessies duik je in de belangrijkste thema’s rondom werkgeluk en efficiëntie. Kies de sessie die bij jou past en ontdek praktische strategieën om direct toe te passen in jouw organisatie. \nPraktische informatie\nDatum:   Maandag 14 april 2025\nTijd:        11.30 – 17.00 uur\nLocatie:   Grolsch Veste te Enschede\n\nInteresse?\nSchrijf je direct in voor de break-out sessies via deze link!
URL:https://werkpleintwente.nl/evenement/baanbrekend-twente/
ATTACH;FMTTYPE=image/jpeg:https://werkpleintwente.nl/wp-content/uploads/2025/03/Baanbrekendtwente_Mail_Header.jpg
END:VEVENT
END:VCALENDAR