BEGIN:VCALENDAR
VERSION:2.0
PRODID:-//Werkpleintwente - ECPv6.15.20//NONSGML v1.0//EN
CALSCALE:GREGORIAN
METHOD:PUBLISH
X-ORIGINAL-URL:https://werkpleintwente.nl
X-WR-CALDESC:Evenementen voor Werkpleintwente
REFRESH-INTERVAL;VALUE=DURATION:PT1H
X-Robots-Tag:noindex
X-PUBLISHED-TTL:PT1H
BEGIN:VTIMEZONE
TZID:Europe/Amsterdam
BEGIN:DAYLIGHT
TZOFFSETFROM:+0100
TZOFFSETTO:+0200
TZNAME:CEST
DTSTART:20240331T010000
END:DAYLIGHT
BEGIN:STANDARD
TZOFFSETFROM:+0200
TZOFFSETTO:+0100
TZNAME:CET
DTSTART:20241027T010000
END:STANDARD
BEGIN:DAYLIGHT
TZOFFSETFROM:+0100
TZOFFSETTO:+0200
TZNAME:CEST
DTSTART:20250330T010000
END:DAYLIGHT
BEGIN:STANDARD
TZOFFSETFROM:+0200
TZOFFSETTO:+0100
TZNAME:CET
DTSTART:20251026T010000
END:STANDARD
BEGIN:DAYLIGHT
TZOFFSETFROM:+0100
TZOFFSETTO:+0200
TZNAME:CEST
DTSTART:20260329T010000
END:DAYLIGHT
BEGIN:STANDARD
TZOFFSETFROM:+0200
TZOFFSETTO:+0100
TZNAME:CET
DTSTART:20261025T010000
END:STANDARD
END:VTIMEZONE
BEGIN:VEVENT
DTSTART;TZID=Europe/Amsterdam:20250904T110000
DTEND;TZID=Europe/Amsterdam:20250904T120000
DTSTAMP:20260422T110036
CREATED:20250812T144016Z
LAST-MODIFIED:20250812T144016Z
UID:13939-1756983600-1756987200@werkpleintwente.nl
SUMMARY:Webinar: Subsidieregeling MKB inclusieve technologie
DESCRIPTION:Heb je interesse in hoe inclusieve technologie je organisatie kan helpen bij het oplossen van arbeidstekorten en helpen bij inclusief ondernemen? Tijdens dit webinar leggen we uit hoe de regeling werkt\, welke technologieën in aanmerking komen en wat de rol van werkontwikkelbedrijven kan zijn. \nSchrijf je in voor het webinar.\nDatum: 4 september 2025\nTijd: 11:00 – 12:00 uur\nLocatie: Online webinar \nDe aanvraag voor de subsidieregeling inclusieve technologie start van 1 oktober om 9.00 uur tot en sluit op 28 november om 17.00 uur.
URL:https://werkpleintwente.nl/evenement/webinar-subsidieregeling-mkb-inclusieve-technologie/
ATTACH;FMTTYPE=image/png:https://werkpleintwente.nl/wp-content/uploads/2025/08/exoskelet.png
END:VEVENT
BEGIN:VEVENT
DTSTART;TZID=Europe/Amsterdam:20250916T130000
DTEND;TZID=Europe/Amsterdam:20250916T160000
DTSTAMP:20260422T110036
CREATED:20250804T135509Z
LAST-MODIFIED:20250904T070459Z
UID:13929-1758027600-1758038400@werkpleintwente.nl
SUMMARY:Meet & Greet Enschede (werkzoekenden)
DESCRIPTION:Ben jij op zoek naar een nieuwe uitdaging of gewoon een leuke baan in Twente? Dan mag je de Meet & Greet van Werkplein Twente op dinsdag 16 september 2025 niet missen! \nTijdens deze banenmarkt ontmoet je ruim 50 werkgevers\, opleiders en uitzendorganisaties die op zoek zijn naar gemotiveerde kandidaten zoals jij. In een laagdrempelige en persoonlijke setting kun je direct kennismaken met bedrijven in o.a. de zorg\, techniek\, logistiek\, productie en nog veel meer. Je hoeft geen sollicitatiebrief te schrijven – alleen jezelf meenemen is genoeg. Wie weet loop jij naar buiten met een uitnodiging voor een vervolggesprek… of zelfs met een baan! \nPraktische informatie\nDatum:  Dinsdag 16 september 2025\nTijd:       Tussen 13:00 – 16:00 uur\nLocatie: Grolsch Veste\, Colosseum 65\, Enschede \nDe locatie is goed bereikbaar met het openbaar vervoer.\nKom je met de auto? Je kunt gratis parkeren voor de deur. \n📌 Meld je aan – het aantal plekken is beperkt \nBen je nieuwsgierig geworden? Claim dan jouw plek door onderstaand formulier in te vullen. Een week vóór het evenement ontvang je van ons een bevestiging met jouw inlooptijd. Op deze manier zorgen we ervoor dat iedereen de tijd krijgt om rustig in gesprek te gaan met de aanwezige werkgevers/organisaties. \nKun je toch niet komen?\nLaat het ons dan weten via info@werkpleintwente.nl. Zo kunnen we jouw plek aan iemand anders geven. \n⚠️ Wees er snel bij\, want: VOL = VOL \nWe kijken er naar uit je te verwelkomen op dinsdag 16 september!\nSamen maken we werk van jouw toekomst. \nDE INSCHRIJVING IS GESLOTEN!
URL:https://werkpleintwente.nl/evenement/meet-greet-enschede-werkzoekenden/
LOCATION:Enschede
ATTACH;FMTTYPE=image/png:https://werkpleintwente.nl/wp-content/uploads/2025/01/Meet-Greet-februari-2025_WZ-2-e1737014012624.png
ORGANIZER;CN="Werkplein Twente":MAILTO:Info@werkpleintwente.nl
END:VEVENT
BEGIN:VEVENT
DTSTART;TZID=Europe/Amsterdam:20250923T090000
DTEND;TZID=Europe/Amsterdam:20250923T120000
DTSTAMP:20260422T110036
CREATED:20250722T070415Z
LAST-MODIFIED:20250730T152023Z
UID:13917-1758618000-1758628800@werkpleintwente.nl
SUMMARY:Praktijkdagen GROEN (23\, 24 en 25 september)
DESCRIPTION:Ben je een natuurmens en graag in de buitenlucht? Ben je lichamelijk een beetje fit? Wil je trots zijn op je werk en leren werken met machines en gereedschappen? Als je deze vragen met ‘ja’ kunt beantwoorden\, dan is werken bij een groenbedrijf vast iets voor jou! \nPraktijkdagen\nTijdens de praktijkdagen Groen op 23\, 24 en 25 september kun je ervaren hoe het is om in het groen te werken. Bij 3 Twentse groenbedrijven kun je zelf aan de slag\, medewerkers ontmoeten en ontdekken of dit werk bij je past. Opleidingsadviseurs zijn er ook bij om je alles te vertellen over leren in de praktijk. \nPraktische informatie\n• VEBEGO GROEN (Enschede): dinsdag 23 september\, 9 – 12 uur\n• GILDEBOR (Hengelo): woensdag 24 september\, 9 – 12 uur\n• ONDERHOUD ENSCHEDE: donderdag 25 september\, 9 – 12 uur\nMeedoen is gratis en aanmelden kan tot en met 16 september. \nHeb je vragen?\nStuur een mail naar info@werkpleintwente.nl. \nAanmelden?\nWil je op één of meer praktijkdagen zelf de handen uit de mouwen steken? Meld je dan uiterlijk 16 september 2025 aan via onderstaand formulier. Deelname is gratis.
URL:https://werkpleintwente.nl/evenement/praktijkdagen-groen-september/
ATTACH;FMTTYPE=image/png:https://werkpleintwente.nl/wp-content/uploads/2025/07/Event-praktijkdagen.png
END:VEVENT
END:VCALENDAR